BEGIN:VCALENDAR
VERSION:2.0
PRODID:-//wp-events-plugin.com//7.2.3.1//EN
TZID:Europe/Berlin
X-WR-TIMEZONE:Europe/Berlin
BEGIN:VEVENT
UID:23@kanujugend.de
DTSTART;TZID=Europe/Berlin;VALUE=DATE:20260801
DTEND;TZID=Europe/Berlin;VALUE=DATE:20260809
DTSTAMP:20251019T080458Z
URL:https://www.kanujugend.de/veranstaltungen/jw3-jugendwildwasserwoche-20
 26/
SUMMARY:JW3 - Jugendwildwasserwoche 2026
DESCRIPTION:Einladung zur Jugendwildwasserwoche 2026 in Ainet\, Osttirol 
 – Komm ins Abenteuerland!\n\nLiebe Paddel-Enthusiasten\, Wildwasser-Held
 en und Nachwuchs-Abenteurer!\n\nPackt schon mal eure Schwimmwesten\, schna
 ppt die Paddel und übt den perfekten „Head Dip“\, denn es ist wieder 
 soweit: Vom 01. bis 08. August 2026 heißt es in Ainet\, Osttirol: Wasser 
 marsch! Die Deutsche Kanujugend lädt euch ein zu einer Woche voller sprit
 ziger Action\, Natur pur und jeder Menge Spaß – inmitten der malerische
 n Sonnenregion Osttirol.\n\nWas euch erwartet?\n\n💦 Wildwasser pur: In 
 der Traumregion Osttirol ist auch im August noch reichlich Wasser auf den 
 Bächen und so können wir auf Drau\, Isel und co. fleißig üben und die 
 Natur genießen.\n💪 Professionelles Training: Ob ihr eure ersten Schrit
 te im strömenden Wasser macht oder eure Booftechnik perfektionieren wollt
 \, durch Gruppen nach verschiedenen Könnenslevel\, ist für alle gesorgt.
 \n🍽 Vollverpflegung: Im Adventurepark ist für uns gesorgt! Vom Frühst
 ück über den Snack nach der Paddelsession bis zum deftigen Abendessen is
 t für alles gesorgt.\n🏔 Naturgenuss deluxe: Die Region Osttirol gehör
 t zu den sonnigsten in den Alpen – und das bedeutet: Paddeln mit Sonnenb
 rille\, Chillen mit Alpenblick und vielleicht sogar der ein oder andere Sp
 rung ins erfrischende Nass.\n\nWann geht's los?\n01. bis 08. August 2025 
 – eine Woche\, die ihr nicht so schnell vergessen werdet!\n\nAnmeldung n
 och nicht möglich\n\nDie Plätze sind heiß begehrt und die Anmeldung lä
 uft voraussichtlich ab Winter 25/26. Sichert euch euer Ticket ins Wasser-A
 benteuer unter [Link: Wird noch veröffentlicht].\n\nWer kann mitmachen?\n
 Familien mit Kindern uns Jugendliche sind herzlich Willkommen. Wenn ihr al
 leine kommt\, dann bitte erst ab 14. Wenn ihr Lust habt\, aber nicht wisst
 \, wie ihr anreisen könnte oder euch Boot und co fehlt\, dann schreibt un
 s an\, wir finden eine Lösung.\n\nAlso\, worauf wartet ihr noch? Lasst eu
 ch das Abenteuer des Sommers nicht entgehen und seid dabei\, wenn Ainet 20
 26 zur Bühne für Wellen\, Wasser und Wahnsinn wird. Wir freuen uns auf e
 uch!\n\nEure Deutsche Kanujugend!
ATTACH;FMTTYPE=image/jpeg:https://www.kanujugend.de/wp-content/uploads/202
 3/10/JW3-Logo-Designs-1.png
CATEGORIES:Sportveranstaltung
LOCATION:Adventurepark Osttirol\, Ainet 108b\, Ainet\, 9951\, Osttirol\, Ö
 sterreich
X-APPLE-STRUCTURED-LOCATION;VALUE=URI;X-ADDRESS=Ainet 108b\, Ainet\, 9951\,
  Osttirol\, Österreich;X-APPLE-RADIUS=100;X-TITLE=Adventurepark Osttirol:
 geo:0,0
END:VEVENT
BEGIN:VTIMEZONE
TZID:Europe/Berlin
X-LIC-LOCATION:Europe/Berlin
BEGIN:DAYLIGHT
DTSTART:20260329T030000
TZOFFSETFROM:+0100
TZOFFSETTO:+0200
TZNAME:CEST
END:DAYLIGHT
END:VTIMEZONE
END:VCALENDAR